BEGIN:VCALENDAR
VERSION:2.0
PRODID:-//ChamberMaster//Event Calendar 2.0//EN
METHOD:PUBLISH
X-PUBLISHED-TTL:P3D
REFRESH-INTERVAL:P3D
CALSCALE:GREGORIAN
BEGIN:VEVENT
DTSTART:20191018T130000Z
DTEND:20191018T170000Z
X-MICROSOFT-CDO-ALLDAYEVENT:FALSE
SUMMARY:18th Commercial Real Estate Conference
DESCRIPTION:
X-ALT-DESC;FMTTYPE=text/html:
LOCATION:
UID:e.9654.1
SEQUENCE:3
DTSTAMP:20260419T192635Z
URL:https://affiliate.miamirealtors.com/events/details/18th-commercial-real-estate-conference-1
END:VEVENT

END:VCALENDAR
