BEGIN:VCALENDAR
VERSION:2.0
PRODID:-//ChamberMaster//Event Calendar 2.0//EN
METHOD:PUBLISH
X-PUBLISHED-TTL:P3D
REFRESH-INTERVAL:P3D
CALSCALE:GREGORIAN
BEGIN:VEVENT
DTSTART:20200228T163000Z
DTEND:20200228T200000Z
X-MICROSOFT-CDO-ALLDAYEVENT:FALSE
SUMMARY:100th Anniversary Inaugural Gala
DESCRIPTION:
X-ALT-DESC;FMTTYPE=text/html:
LOCATION:Hard Rock Hotel Hollywood\, Fl
UID:e.9654.4
SEQUENCE:3
DTSTAMP:20260419T123424Z
URL:https://affiliate.miamirealtors.com/events/details/100th-anniversary-inaugural-gala-4
END:VEVENT

END:VCALENDAR
